BEGIN:VCALENDAR
VERSION:2.0
PRODID:-//Biogipuzkoa - ECPv6.15.18//NONSGML v1.0//EN
CALSCALE:GREGORIAN
METHOD:PUBLISH
X-WR-CALNAME:Biogipuzkoa
X-ORIGINAL-URL:https://bio-gipuzkoa.eus
X-WR-CALDESC:Eventos para Biogipuzkoa
REFRESH-INTERVAL;VALUE=DURATION:PT1H
X-Robots-Tag:noindex
X-PUBLISHED-TTL:PT1H
BEGIN:VTIMEZONE
TZID:Europe/Madrid
BEGIN:DAYLIGHT
TZOFFSETFROM:+0100
TZOFFSETTO:+0200
TZNAME:CEST
DTSTART:20250330T010000
END:DAYLIGHT
BEGIN:STANDARD
TZOFFSETFROM:+0200
TZOFFSETTO:+0100
TZNAME:CET
DTSTART:20251026T010000
END:STANDARD
BEGIN:DAYLIGHT
TZOFFSETFROM:+0100
TZOFFSETTO:+0200
TZNAME:CEST
DTSTART:20260329T010000
END:DAYLIGHT
BEGIN:STANDARD
TZOFFSETFROM:+0200
TZOFFSETTO:+0100
TZNAME:CET
DTSTART:20261025T010000
END:STANDARD
BEGIN:DAYLIGHT
TZOFFSETFROM:+0100
TZOFFSETTO:+0200
TZNAME:CEST
DTSTART:20270328T010000
END:DAYLIGHT
BEGIN:STANDARD
TZOFFSETFROM:+0200
TZOFFSETTO:+0100
TZNAME:CET
DTSTART:20271031T010000
END:STANDARD
END:VTIMEZONE
BEGIN:VEVENT
DTSTART;TZID=Europe/Madrid:20260424T130000
DTEND;TZID=Europe/Madrid:20260424T140000
DTSTAMP:20260424T054341
CREATED:20260416T114411Z
LAST-MODIFIED:20260416T114411Z
UID:105489-1777035600-1777039200@bio-gipuzkoa.eus
SUMMARY:La UAI de Biogipuzkoa: actividad y hoja de ruta en valorización y transferencia.
DESCRIPTION:La Unidad de Apoyo a la Innovación (UAI) de IIS Biogipuzkoa presenta en este seminario una visión integral de su actividad y sus próximos pasos estratégicos. En la primera parte\, se ofrecerá un balance de los últimos tres años: evolución de la cartera tecnológica\, colaboraciones con empresas\, acuerdos alcanzados y principales indicadores de transferencia. A continuación\, se compartirán los resultados de una encuesta interna realizada al colectivo investigador para identificar necesidades formativas y barreras percibidas en los procesos de valorización. En base a estos resultados\, se presentará el nuevo Plan Formativo de la UAI\, diseñado para fortalecer las capacidades del personal investigador y de gestión en protección de resultados\, comercialización y emprendimiento. Finalmente\, se ofrecerá una primera aproximación al Plan de Valorización y Transferencia del instituto\, actualmente en fase de cierre\, y a las líneas de implementación previstas.
URL:https://bio-gipuzkoa.eus/agenda/la-uai-de-biogipuzkoa-actividad-y-hoja-de-ruta-en-valorizacion-y-transferencia/
LOCATION:Salón de Actos\, IIS Biogipuzkoa\, Paseo Dr. Begiristain\, s/n\, SAN SEBASTIÁN\, Gipuzkoa\, 20014\, Spain
CATEGORIES:Agenda,Formación,Seminarios
ATTACH;FMTTYPE=image/png:https://bio-gipuzkoa.eus/wp-content/uploads/2026/04/LOGO-UAI-v3.png
END:VEVENT
END:VCALENDAR